BEGIN:VCALENDAR
VERSION:2.0
PRODID:-//eventon.com NONSGML v1.0//EN
CALSCALE:GREGORIAN
METHOD:PUBLISH
BEGIN:VEVENT
UID:69e73ed1d3b5f
DTSTAMP:20260421T090937Z
DTSTART:20170709
DTEND:20170710
LOCATION:Wisacher Wiesackerstrasse 30\,  8105 Regensdorf
SUMMARY:De gschnällscht Furttaler
DESCRIPTION:De gschnällscht Furttaler\nhttps://lcr.ch/events/de-gschnaells
 cht-furttaler/
URL:https://lcr.ch/events/de-gschnaellscht-furttaler/
END:VEVENT
END:VCALENDAR