BEGIN:VCALENDAR
VERSION:2.0
PRODID:-//eventon.com NONSGML v1.0//EN
CALSCALE:GREGORIAN
METHOD:PUBLISH
BEGIN:VEVENT
UID:69e73ed15ad01
DTSTAMP:20260421T090937Z
DTSTART:20220813T140000Z
DTEND:20220813T210000Z
LOCATION:Wisacher Wiesackerstrasse 30\,  8105 Regensdorf
SUMMARY:LCR Abendmeeting
DESCRIPTION:Wettkampf Ausschreibung und Anmeldung Live Resultate Gesamtrang
 liste\nhttps://lcr.ch/events/lcr-abendmeeting-3/
URL:https://lcr.ch/events/lcr-abendmeeting-3/
END:VEVENT
END:VCALENDAR