BEGIN:VCALENDAR
VERSION:2.0
PRODID:-//eventon.com NONSGML v1.0//EN
CALSCALE:GREGORIAN
METHOD:PUBLISH
BEGIN:VEVENT
UID:69e8a11043138
DTSTAMP:20260422T102104Z
DTSTART:20230701T083000Z
DTEND:20230701T133000Z
LOCATION:Wisacher Wiesackerstrasse 30\,  8105 Regensdorf
SUMMARY:UBS Kids Cup
DESCRIPTION:Anmelde Link für den UBS Kids Cup vom 01.07.2023Eventinformati
 onenDefinitiver Zeitplan Live Resultate\nhttps://lcr.ch/events/ubs-kids-cup
 -de-gschnaellscht-furttaler/
URL:https://lcr.ch/events/ubs-kids-cup-de-gschnaellscht-furttaler/
END:VEVENT
END:VCALENDAR